BEGIN:VCALENDAR
VERSION:2.0
PRODID:-//Tukios.com/
BEGIN:VEVENT
UID:aa5e5e22-ba27-4e39-95dd-f019594bee31@www.gilbertfunerals.com
DTSTAMP:20260420T190812Z
DTSTART:20260424T190000Z
DTEND:20260424T200000Z
SUMMARY:Memorial Service
DESCRIPTION:
URL:https://www.gilbertfunerals.com/obituaries/michael-loren-vaughn
LOCATION: Route 146  Elizabethtown  62931
GEO:37.4498;-88.3022903
END:VEVENT
END:VCALENDAR