BEGIN:VCALENDAR
VERSION:2.0
PRODID:-//Tukios.com/
BEGIN:VEVENT
UID:1af557be-da6a-4097-b33b-4639920ff3f0@www.gilbertfunerals.com
DTSTAMP:20260425T223449Z
DTSTART:20260428T220000Z
DTEND:20260428T234500Z
SUMMARY:Visitation
DESCRIPTION:
URL:https://www.gilbertfunerals.com/obituaries/hershel-mcdowell-jr
LOCATION: 117 W Bellville St  Marion KY 42064
GEO:37.3333472;-88.082066
END:VEVENT
END:VCALENDAR