BEGIN:VCALENDAR
VERSION:2.0
PRODID:-//Tukios.com/
BEGIN:VEVENT
UID:e27bd180-ecd1-4f86-90cd-4d469ac3dc25@www.gilbertfunerals.com
DTSTAMP:20260425T223449Z
DTSTART:20260429T000000Z
DTEND:20260429T010000Z
SUMMARY:Memorial Service
DESCRIPTION:
URL:https://www.gilbertfunerals.com/obituaries/hershel-mcdowell-jr
LOCATION: 117 W Bellville St  Marion KY 42064
GEO:37.3333472;-88.082066
END:VEVENT
END:VCALENDAR