BEGIN:VCALENDAR
VERSION:2.0
PRODID:-//Tukios.com/
BEGIN:VEVENT
UID:b4d7787a-ecfd-4f81-8585-827224e3e557@www.gilbertfunerals.com
DTSTAMP:20260422T184152Z
DTSTART:20260425T190000Z
DTEND:20260425T210000Z
SUMMARY:Memorial Gathering
DESCRIPTION:
URL:https://www.gilbertfunerals.com/obituaries/glenda-tyson
LOCATION: 117 W Bellville St  Marion KY 42064
GEO:37.3333472;-88.082066
END:VEVENT
END:VCALENDAR